BEGIN:VCALENDAR
VERSION:2.0
PRODID:-//Frazie&#039;s Meat &amp; Market - ECPv6.15.20//NONSGML v1.0//EN
CALSCALE:GREGORIAN
METHOD:PUBLISH
X-WR-CALNAME:Frazie&#039;s Meat &amp; Market
X-ORIGINAL-URL:https://fraziesmeatandmarket.com
X-WR-CALDESC:Events for Frazie&#039;s Meat &amp; Market
REFRESH-INTERVAL;VALUE=DURATION:PT1H
X-Robots-Tag:noindex
X-PUBLISHED-TTL:PT1H
BEGIN:VTIMEZONE
TZID:America/New_York
BEGIN:DAYLIGHT
TZOFFSETFROM:-0500
TZOFFSETTO:-0400
TZNAME:EDT
DTSTART:20250309T070000
END:DAYLIGHT
BEGIN:STANDARD
TZOFFSETFROM:-0400
TZOFFSETTO:-0500
TZNAME:EST
DTSTART:20251102T060000
END:STANDARD
BEGIN:DAYLIGHT
TZOFFSETFROM:-0500
TZOFFSETTO:-0400
TZNAME:EDT
DTSTART:20260308T070000
END:DAYLIGHT
BEGIN:STANDARD
TZOFFSETFROM:-0400
TZOFFSETTO:-0500
TZNAME:EST
DTSTART:20261101T060000
END:STANDARD
BEGIN:DAYLIGHT
TZOFFSETFROM:-0500
TZOFFSETTO:-0400
TZNAME:EDT
DTSTART:20270314T070000
END:DAYLIGHT
BEGIN:STANDARD
TZOFFSETFROM:-0400
TZOFFSETTO:-0500
TZNAME:EST
DTSTART:20271107T060000
END:STANDARD
END:VTIMEZONE
BEGIN:VEVENT
DTSTART;VALUE=DATE:20260203
DTEND;VALUE=DATE:20260209
DTSTAMP:20260421T120222
CREATED:20260203T161319Z
LAST-MODIFIED:20260203T161319Z
UID:11992-1770076800-1770595199@fraziesmeatandmarket.com
SUMMARY:Frazie's Supper Bowl (Super Bowl Catering)
DESCRIPTION:Forget the teams. Forget the commercials.\nThe real Super Bowl is on your table. \nWelcome to the SUPPER BOWL\, officially hosted by Frazie’s Meat & Market. \nWings coming off the smoker.\nSteaks hitting the grill.\nSausages snapping.\nSliders stacked high. \nThis is game day food done right. No distractions. Just premium cuts\, bold flavors\, and a spread that actually wins. \nPick your lineup. We’ll handle the rest.\nStop by Frazie’s Meat & Market and stock up for the only bowl that matters or visit our catering page to see a full menu and order online!
URL:https://fraziesmeatandmarket.com/event/super-bowl-catering/
LOCATION:Frazie’s Meat & Market – Riverside\, GA\, 404.721.8521\, 30318\, Georgia
CATEGORIES:Catering,Football
ORGANIZER;CN="Frazie's Meat & Market":MAILTO:info@fraziesmeatandmarket.com
END:VEVENT
BEGIN:VEVENT
DTSTART;VALUE=DATE:20260203
DTEND;VALUE=DATE:20260215
DTSTAMP:20260421T120222
CREATED:20260203T160704Z
LAST-MODIFIED:20260203T161413Z
UID:11989-1770076800-1771113599@fraziesmeatandmarket.com
SUMMARY:Frazie's Valentine's Special
DESCRIPTION:This Valentine’s Day\, skip the crowded restaurants and create something unforgettable at home with Frazie’s Meat & Market. \nThere’s nothing more romantic than a thoughtfully prepared meal\, and our surf and turf Valentine’s dinner options make it easy to turn your kitchen into the best seat in town. From hand-cut\, premium steaks to fresh\, high-quality seafood\, every ingredient is selected with care\, flavor\, and craftsmanship in mind. No shortcuts. No compromises. Just honest\, high-end butcher shop quality you can taste in every bite. \nWhether you’re planning an intimate dinner for two or cooking to impress\, Frazie’s Meat & Market is your go-to destination for Valentine’s Day steak\, fresh seafood\, and chef-quality proteins in Atlanta. Pair a perfectly marbled ribeye with succulent shrimp or lobster\, fire up the grill or cast iron\, and let the food do the talking. \nBecause flowers wilt. Cards get tucked away. \nBut a perfectly cooked surf and turf dinner? That gets remembered.
URL:https://fraziesmeatandmarket.com/event/frazies-valentines-special/
LOCATION:Frazie’s Meat & Market – Riverside\, GA\, 404.721.8521\, 30318\, Georgia
CATEGORIES:Valentine's Day
ATTACH;FMTTYPE=image/jpeg:https://fraziesmeatandmarket.com/wp-content/uploads/2026/02/VDAY_1up.jpg
ORGANIZER;CN="Frazie's Meat & Market":MAILTO:info@fraziesmeatandmarket.com
END:VEVENT
BEGIN:VEVENT
DTSTART;TZID=America/New_York:20260224T180000
DTEND;TZID=America/New_York:20260224T210000
DTSTAMP:20260421T120222
CREATED:20260112T204655Z
LAST-MODIFIED:20260203T160129Z
UID:11983-1771956000-1771966800@fraziesmeatandmarket.com
SUMMARY:February Supper Club Featuring Executive Chef Jason Stern
DESCRIPTION:FRAZIE’S SUPPER CLUB IS BACK 🍽️Tuesday\, February 24th \nWe’re hosting a one-night-only\, multi-course Supper Club dinner at Frazie’s; this time featuring Executive Chef Jason Stern from Boone’s at Bobby Jones (Buckhead). Expect elevated\, seasonal plates\, big flavor\, and a chef-driven menu you won’t find anywhere else. \nTHE MENUFirst Course: Beet Steak: shiitake powder\, frisée\, Meyer lemon gelSecond Course: Seared Scallop & Pork Belly: fava bean purée\, truffle beurre blancThird Course: Rabbit Roulade: pancetta\, mushroom duxelles\, spinach\, carrot purée\, gooseberry jusPasta Course: Braised Pork Agnolotti: porcini mushrooms\, parmesan foam\, pistachio\, pickled green garlicMain Course: Dry-Aged Duck: toasted farro\, parsnip purée\, confit fennel\, apricot & red wine jusDessert: Fig & Brown Sugar Bourbon Bread Pudding: vanilla gelato\, warm caramel \nABOUT CHEF JASON STERNNYC-born with 30+ years in the game\, Chef Stern has led kitchens across Atlanta: earning accolades like “Best Italian” (Jezebel) at Colletta and helping From the Earth Brewery be voted “Best Brewpub” nationally (USA Today). Now he’s at Boone’s\, bringing upscale New American cuisine to a laid-back setting overlooking Bobby Jones Golf Course. \n🎟️ Seats are limited; this dinner will fill up fast.Make Your Reservations Today!
URL:https://fraziesmeatandmarket.com/event/february-supper-club-featuring-executive-chef-jason-stern/
LOCATION:Frazie’s Meat & Market – Riverside\, GA\, 404.721.8521\, 30318\, Georgia
CATEGORIES:Supper Club
ORGANIZER;CN="Frazie's Meat & Market":MAILTO:info@fraziesmeatandmarket.com
END:VEVENT
END:VCALENDAR