BEGIN:VCALENDAR
VERSION:2.0
PRODID:-//Frazie&#039;s Meat &amp; Market - ECPv6.15.20//NONSGML v1.0//EN
CALSCALE:GREGORIAN
METHOD:PUBLISH
X-ORIGINAL-URL:https://fraziesmeatandmarket.com
X-WR-CALDESC:Events for Frazie&#039;s Meat &amp; Market
REFRESH-INTERVAL;VALUE=DURATION:PT1H
X-Robots-Tag:noindex
X-PUBLISHED-TTL:PT1H
BEGIN:VTIMEZONE
TZID:America/New_York
BEGIN:DAYLIGHT
TZOFFSETFROM:-0500
TZOFFSETTO:-0400
TZNAME:EDT
DTSTART:20240310T070000
END:DAYLIGHT
BEGIN:STANDARD
TZOFFSETFROM:-0400
TZOFFSETTO:-0500
TZNAME:EST
DTSTART:20241103T060000
END:STANDARD
BEGIN:DAYLIGHT
TZOFFSETFROM:-0500
TZOFFSETTO:-0400
TZNAME:EDT
DTSTART:20250309T070000
END:DAYLIGHT
BEGIN:STANDARD
TZOFFSETFROM:-0400
TZOFFSETTO:-0500
TZNAME:EST
DTSTART:20251102T060000
END:STANDARD
BEGIN:DAYLIGHT
TZOFFSETFROM:-0500
TZOFFSETTO:-0400
TZNAME:EDT
DTSTART:20260308T070000
END:DAYLIGHT
BEGIN:STANDARD
TZOFFSETFROM:-0400
TZOFFSETTO:-0500
TZNAME:EST
DTSTART:20261101T060000
END:STANDARD
END:VTIMEZONE
BEGIN:VEVENT
DTSTART;TZID=America/New_York:20250810T100000
DTEND;TZID=America/New_York:20250810T140000
DTSTAMP:20260421T222521
CREATED:20250812T203604Z
LAST-MODIFIED:20250812T204052Z
UID:11846-1754820000-1754834400@fraziesmeatandmarket.com
SUMMARY:Smyrna Market Village Farmers Market
DESCRIPTION:Join us for Local Vendors\, Food & Fun!! \nDate: Sunday\, August 10th\nTime: 10AM – 2PM\nLocation: 1265 W Spring St\, Smyrna\, GA 30080
URL:https://fraziesmeatandmarket.com/event/smyrna-market-village-farmers-market/
LOCATION:Smyrna Market Village\, 1265 W Spring St SE\, Smyrna\, GA\, 30080\, United States
END:VEVENT
BEGIN:VEVENT
DTSTART;TZID=America/New_York:20250822T160000
DTEND;TZID=America/New_York:20250822T210000
DTSTAMP:20260421T222521
CREATED:20250812T203924Z
LAST-MODIFIED:20250812T203924Z
UID:11850-1755878400-1755896400@fraziesmeatandmarket.com
SUMMARY:Pop Up at Scofflaw
DESCRIPTION:Join us at Scofflaw for great beer\, family fun\, & your favorite Frazie’s sandwiches. \nDate: Friday\, August 22nd\nTime: 4PM – 9PM\nLocation: 1738 MacArthur Blvd NW\, Atlanta\, GA 30318
URL:https://fraziesmeatandmarket.com/event/pop-up-at-scofflaw/
LOCATION:Scofflaw\, 1738 MacArthur Blvd NW\, Atlanta\, GA\, 30318\, United States
END:VEVENT
END:VCALENDAR