BEGIN:VCALENDAR
VERSION:2.0
PRODID:-//Frazie&#039;s Meat &amp; Market - ECPv6.15.20//NONSGML v1.0//EN
CALSCALE:GREGORIAN
METHOD:PUBLISH
X-WR-CALNAME:Frazie&#039;s Meat &amp; Market
X-ORIGINAL-URL:https://fraziesmeatandmarket.com
X-WR-CALDESC:Events for Frazie&#039;s Meat &amp; Market
REFRESH-INTERVAL;VALUE=DURATION:PT1H
X-Robots-Tag:noindex
X-PUBLISHED-TTL:PT1H
BEGIN:VTIMEZONE
TZID:America/New_York
BEGIN:DAYLIGHT
TZOFFSETFROM:-0500
TZOFFSETTO:-0400
TZNAME:EDT
DTSTART:20240310T070000
END:DAYLIGHT
BEGIN:STANDARD
TZOFFSETFROM:-0400
TZOFFSETTO:-0500
TZNAME:EST
DTSTART:20241103T060000
END:STANDARD
BEGIN:DAYLIGHT
TZOFFSETFROM:-0500
TZOFFSETTO:-0400
TZNAME:EDT
DTSTART:20250309T070000
END:DAYLIGHT
BEGIN:STANDARD
TZOFFSETFROM:-0400
TZOFFSETTO:-0500
TZNAME:EST
DTSTART:20251102T060000
END:STANDARD
BEGIN:DAYLIGHT
TZOFFSETFROM:-0500
TZOFFSETTO:-0400
TZNAME:EDT
DTSTART:20260308T070000
END:DAYLIGHT
BEGIN:STANDARD
TZOFFSETFROM:-0400
TZOFFSETTO:-0500
TZNAME:EST
DTSTART:20261101T060000
END:STANDARD
BEGIN:DAYLIGHT
TZOFFSETFROM:-0500
TZOFFSETTO:-0400
TZNAME:EDT
DTSTART:20270314T070000
END:DAYLIGHT
BEGIN:STANDARD
TZOFFSETFROM:-0400
TZOFFSETTO:-0500
TZNAME:EST
DTSTART:20271107T060000
END:STANDARD
END:VTIMEZONE
BEGIN:VEVENT
DTSTART;TZID=America/New_York:20250914T150000
DTEND;TZID=America/New_York:20250914T210000
DTSTAMP:20260421T222835
CREATED:20250911T165521Z
LAST-MODIFIED:20250911T165521Z
UID:11923-1757862000-1757883600@fraziesmeatandmarket.com
SUMMARY:Pop up at Viking Alchemist
DESCRIPTION:
URL:https://fraziesmeatandmarket.com/event/pop-up-at-viking-alchemist/
LOCATION:Viking Alchemist\, 3080 Jonquil Dr SE\, Smyrna\, 30080\, United States
ORGANIZER;CN="Frazie's Meat & Market":MAILTO:info@fraziesmeatandmarket.com
END:VEVENT
BEGIN:VEVENT
DTSTART;TZID=America/New_York:20250920T120000
DTEND;TZID=America/New_York:20250920T200000
DTSTAMP:20260421T222835
CREATED:20250812T204325Z
LAST-MODIFIED:20250911T174053Z
UID:11857-1758369600-1758398400@fraziesmeatandmarket.com
SUMMARY:Pop Up at Tucker Brewing
DESCRIPTION:Join us for great beer\, lots of fun & your favorite Frazie’s sandwiches. \nDate: Saturday\, September 20th\nTime: All afternoon – 8PM\nLocation: 2003 S Bibb Dr\, Tucker\, GA 30084
URL:https://fraziesmeatandmarket.com/event/pop-up-at-tucker-brewing/
LOCATION:Tucker Brewing\, 2003 S Bibb Dr.\, Atlanta\, GA\, 30318\, United States
END:VEVENT
BEGIN:VEVENT
DTSTART;TZID=America/New_York:20250921T080000
DTEND;TZID=America/New_York:20250921T130000
DTSTAMP:20260421T222835
CREATED:20250911T165738Z
LAST-MODIFIED:20250911T174219Z
UID:11928-1758441600-1758459600@fraziesmeatandmarket.com
SUMMARY:Pop Up Smyrna Farmer's Market
DESCRIPTION:
URL:https://fraziesmeatandmarket.com/event/pop-up-smyrna-farmers-market/
LOCATION:Smyrna Market Village\, 1265 W Spring St SE\, Smyrna\, GA\, 30080\, United States
END:VEVENT
BEGIN:VEVENT
DTSTART;TZID=America/New_York:20250923T183000
DTEND;TZID=America/New_York:20250923T223000
DTSTAMP:20260421T222835
CREATED:20250911T170006Z
LAST-MODIFIED:20250911T174005Z
UID:11930-1758652200-1758666600@fraziesmeatandmarket.com
SUMMARY:Supper Club Featuring Chef Steven Ferdinand
DESCRIPTION:Join us Tuesday September 23rd\, for a one of a kind 6 course meal with Michelin-rated @chef.stevenferdinand ! Each course will be paired with hand-selected wines. \nCall the shop or email mark@fraziesmeatandmarket.com to secure your reservations before they’re gone! Only 16 seats are available. \n📆 Tuesday\, September 23rd\n🕑Starts at 6:30 PM\n📍Frazie’s Meat & Market \nMenu\nMushroom Archini\nRed sauce & basil emulsion \nSeared Scallop\nWite corn puree & parsley jus \nSous Vide Red Beet\nGoat cheese fondue\, sunflower seed & sprouts \nSmoked Veal Cheek Ravioli\nParmesan froth \nCrisp Duck Breast\nCherry Gastrique & sweet potato chips \nButtermilk Panna Cotta\nRoasted Georgia Peaches
URL:https://fraziesmeatandmarket.com/event/supper-club-featuring-chef-steven-ferdinand/
LOCATION:Frazie’s Meat & Market – Riverside\, GA\, 404.721.8521\, 30318\, Georgia
ORGANIZER;CN="Frazie's Meat & Market":MAILTO:info@fraziesmeatandmarket.com
END:VEVENT
BEGIN:VEVENT
DTSTART;TZID=America/New_York:20250927T100000
DTEND;TZID=America/New_York:20250927T200000
DTSTAMP:20260421T222835
CREATED:20250911T173758Z
LAST-MODIFIED:20250911T173943Z
UID:11933-1758967200-1759003200@fraziesmeatandmarket.com
SUMMARY:Tucker Brewing BBQ
DESCRIPTION:
URL:https://fraziesmeatandmarket.com/event/tucker-brewing-bbq-2/
LOCATION:Tucker Brewing\, 2003 S Bibb Dr.\, Atlanta\, GA\, 30318\, United States
END:VEVENT
BEGIN:VEVENT
DTSTART;TZID=America/New_York:20251010T160000
DTEND;TZID=America/New_York:20251010T210000
DTSTAMP:20260421T222835
CREATED:20251009T135149Z
LAST-MODIFIED:20251009T135149Z
UID:11935-1760112000-1760130000@fraziesmeatandmarket.com
SUMMARY:Scofflaw Pop Up
DESCRIPTION:Join us at Scofflaw for your favorite sandwiches\, craft beer\, and family fun!
URL:https://fraziesmeatandmarket.com/event/scofflaw-pop-up/
LOCATION:Scofflaw\, 1738 MacArthur Blvd NW\, Atlanta\, GA\, 30318\, United States
ORGANIZER;CN="Frazie's Meat & Market":MAILTO:info@fraziesmeatandmarket.com
END:VEVENT
BEGIN:VEVENT
DTSTART;VALUE=DATE:20251018
DTEND;VALUE=DATE:20251019
DTSTAMP:20260421T222835
CREATED:20250812T204616Z
LAST-MODIFIED:20250812T204616Z
UID:11861-1760745600-1760831999@fraziesmeatandmarket.com
SUMMARY:Ms. Delilah's Annual BBQ & Beer Festival
DESCRIPTION:It’s that time of year again! We are excited for Ms. Delilah’s Annual BBQ & Beer Festival. \nJoin some of the best pit masters from around the country at Scofflaw Brewing for a day of incredible food\, craft beer and fun for everyone! \nScofflaw Brewing\nDate: Saturday\, October 18th\nLocation: 1738 MacArthur Blvd NW\, Atlanta\, GA 30318
URL:https://fraziesmeatandmarket.com/event/ms-delilahs-annual-bbq-beer-festival/
LOCATION:Scofflaw\, 1738 MacArthur Blvd NW\, Atlanta\, GA\, 30318\, United States
END:VEVENT
BEGIN:VEVENT
DTSTART;TZID=America/New_York:20251025T120000
DTEND;TZID=America/New_York:20251025T170000
DTSTAMP:20260421T222835
CREATED:20251009T135425Z
LAST-MODIFIED:20251009T135425Z
UID:11938-1761393600-1761411600@fraziesmeatandmarket.com
SUMMARY:Frazie's Halloween BBQ Bash
DESCRIPTION:Frazie’s Halloween BBQ Party \nOctober 25th | 12 PM – 5 PM\nFrazie’s Meat & Market – 2030 Main St\, Atlanta\, GA \n\nIt’s that spooky (and smoky) time of year again! Join us for Frazie’s Halloween BBQ Party – a family-friendly afternoon filled with live music\, a DJ\, amazing food\, cold drinks\, and Halloween fun.\n\n What to Expect:• Mouthwatering BBQ fresh off the grill• Ice-cold drinks & Vendor Samples• Live music & DJ vibes all day long• Family fun and games for all ages• Costume Contest | Dress your best costume!\n\nBring your friends\, family\, and your best Halloween spirit -costumes are encouraged but not required. Whether you’re coming for the BBQ\, the beats\, or the boos\, this is one event you won’t want to miss.\n\nFree to attend | All ages welcome
URL:https://fraziesmeatandmarket.com/event/frazies-halloween-bbq-bash/
LOCATION:Frazie’s Meat & Market – Riverside\, GA\, 404.721.8521\, 30318\, Georgia
ORGANIZER;CN="Frazie's Meat & Market":MAILTO:info@fraziesmeatandmarket.com
END:VEVENT
BEGIN:VEVENT
DTSTART;TZID=America/New_York:20251028T183000
DTEND;TZID=America/New_York:20251028T213000
DTSTAMP:20260421T222835
CREATED:20251009T135606Z
LAST-MODIFIED:20251009T135606Z
UID:11941-1761676200-1761687000@fraziesmeatandmarket.com
SUMMARY:Supper Club Featuring Chef Joey Ward
DESCRIPTION:We are excited to announce our next Supper Club featuring Chef Joey Ward! \nContact mark@fraziesmeatandmarket.com or call 404.941.9171 to secure your seats for an unforgettable evening including a 6 course dinner; each course paired with a hand selected wine by Mark Frazie.
URL:https://fraziesmeatandmarket.com/event/supper-club-featuring-chef-joey-ward/
LOCATION:Frazie’s Meat & Market – Riverside\, GA\, 404.721.8521\, 30318\, Georgia
ORGANIZER;CN="Frazie's Meat & Market":MAILTO:info@fraziesmeatandmarket.com
END:VEVENT
BEGIN:VEVENT
DTSTART;TZID=America/New_York:20251031T160000
DTEND;TZID=America/New_York:20251031T180000
DTSTAMP:20260421T222835
CREATED:20251009T135717Z
LAST-MODIFIED:20251009T135717Z
UID:11943-1761926400-1761933600@fraziesmeatandmarket.com
SUMMARY:Trick Or Treat at Frazie's
DESCRIPTION:Bring the kids by for trick or treat! \nAll sandwiches are 10% off all day!
URL:https://fraziesmeatandmarket.com/event/trick-or-treat-at-frazies/
LOCATION:Frazie’s Meat & Market – Riverside\, GA\, 404.721.8521\, 30318\, Georgia
ORGANIZER;CN="Frazie's Meat & Market":MAILTO:info@fraziesmeatandmarket.com
END:VEVENT
BEGIN:VEVENT
DTSTART;TZID=America/New_York:20251121T160000
DTEND;TZID=America/New_York:20251121T210000
DTSTAMP:20260421T222835
CREATED:20251118T153350Z
LAST-MODIFIED:20251118T153350Z
UID:11952-1763740800-1763758800@fraziesmeatandmarket.com
SUMMARY:Frazie's at Scofflaw!
DESCRIPTION:Frazie’s Signature Sandwiches\, Craft Beer & Family Fun!
URL:https://fraziesmeatandmarket.com/event/frazies-at-scofflaw/
LOCATION:Scofflaw\, 1738 MacArthur Blvd NW\, Atlanta\, GA\, 30318\, United States
CATEGORIES:Beer,Pop Up,Sandwiches
ORGANIZER;CN="Frazie's Meat & Market":MAILTO:info@fraziesmeatandmarket.com
END:VEVENT
BEGIN:VEVENT
DTSTART;TZID=America/New_York:20251130T130000
DTEND;TZID=America/New_York:20251130T150000
DTSTAMP:20260421T222835
CREATED:20251118T153104Z
LAST-MODIFIED:20251118T153104Z
UID:11949-1764507600-1764514800@fraziesmeatandmarket.com
SUMMARY:Santa Is Coming to Frazie’s Meat & Market
DESCRIPTION:Join us for a special holiday visit from Santa on Sunday\, November 30th from 1:00 PM to 3:00 PM. \nBring the family to meet Santa\, take photos\, and enjoy a festive afternoon at Frazie’s. \nWe’ll be offering Kid’s Grilled Cheese and Chips for $8.00 and Hot Cocoa for $2.00\, available all day. \nThis event is open to all ages and is the perfect way to kick off the holiday season! \nWe look forward to celebrating with you.\n– Frazie’s
URL:https://fraziesmeatandmarket.com/event/santa-at-frazies/
LOCATION:Frazie’s Meat & Market – Riverside\, GA\, 404.721.8521\, 30318\, Georgia
CATEGORIES:Christmas,Holiday,Santa
ATTACH;FMTTYPE=image/png:https://fraziesmeatandmarket.com/wp-content/uploads/2025/11/Santa-Flyer.png
ORGANIZER;CN="Frazie's Meat & Market":MAILTO:info@fraziesmeatandmarket.com
END:VEVENT
BEGIN:VEVENT
DTSTART;VALUE=DATE:20260203
DTEND;VALUE=DATE:20260209
DTSTAMP:20260421T222835
CREATED:20260203T161319Z
LAST-MODIFIED:20260203T161319Z
UID:11992-1770076800-1770595199@fraziesmeatandmarket.com
SUMMARY:Frazie's Supper Bowl (Super Bowl Catering)
DESCRIPTION:Forget the teams. Forget the commercials.\nThe real Super Bowl is on your table. \nWelcome to the SUPPER BOWL\, officially hosted by Frazie’s Meat & Market. \nWings coming off the smoker.\nSteaks hitting the grill.\nSausages snapping.\nSliders stacked high. \nThis is game day food done right. No distractions. Just premium cuts\, bold flavors\, and a spread that actually wins. \nPick your lineup. We’ll handle the rest.\nStop by Frazie’s Meat & Market and stock up for the only bowl that matters or visit our catering page to see a full menu and order online!
URL:https://fraziesmeatandmarket.com/event/super-bowl-catering/
LOCATION:Frazie’s Meat & Market – Riverside\, GA\, 404.721.8521\, 30318\, Georgia
CATEGORIES:Catering,Football
ORGANIZER;CN="Frazie's Meat & Market":MAILTO:info@fraziesmeatandmarket.com
END:VEVENT
BEGIN:VEVENT
DTSTART;VALUE=DATE:20260203
DTEND;VALUE=DATE:20260215
DTSTAMP:20260421T222835
CREATED:20260203T160704Z
LAST-MODIFIED:20260203T161413Z
UID:11989-1770076800-1771113599@fraziesmeatandmarket.com
SUMMARY:Frazie's Valentine's Special
DESCRIPTION:This Valentine’s Day\, skip the crowded restaurants and create something unforgettable at home with Frazie’s Meat & Market. \nThere’s nothing more romantic than a thoughtfully prepared meal\, and our surf and turf Valentine’s dinner options make it easy to turn your kitchen into the best seat in town. From hand-cut\, premium steaks to fresh\, high-quality seafood\, every ingredient is selected with care\, flavor\, and craftsmanship in mind. No shortcuts. No compromises. Just honest\, high-end butcher shop quality you can taste in every bite. \nWhether you’re planning an intimate dinner for two or cooking to impress\, Frazie’s Meat & Market is your go-to destination for Valentine’s Day steak\, fresh seafood\, and chef-quality proteins in Atlanta. Pair a perfectly marbled ribeye with succulent shrimp or lobster\, fire up the grill or cast iron\, and let the food do the talking. \nBecause flowers wilt. Cards get tucked away. \nBut a perfectly cooked surf and turf dinner? That gets remembered.
URL:https://fraziesmeatandmarket.com/event/frazies-valentines-special/
LOCATION:Frazie’s Meat & Market – Riverside\, GA\, 404.721.8521\, 30318\, Georgia
CATEGORIES:Valentine's Day
ATTACH;FMTTYPE=image/jpeg:https://fraziesmeatandmarket.com/wp-content/uploads/2026/02/VDAY_1up.jpg
ORGANIZER;CN="Frazie's Meat & Market":MAILTO:info@fraziesmeatandmarket.com
END:VEVENT
BEGIN:VEVENT
DTSTART;TZID=America/New_York:20260224T180000
DTEND;TZID=America/New_York:20260224T210000
DTSTAMP:20260421T222835
CREATED:20260112T204655Z
LAST-MODIFIED:20260203T160129Z
UID:11983-1771956000-1771966800@fraziesmeatandmarket.com
SUMMARY:February Supper Club Featuring Executive Chef Jason Stern
DESCRIPTION:FRAZIE’S SUPPER CLUB IS BACK 🍽️Tuesday\, February 24th \nWe’re hosting a one-night-only\, multi-course Supper Club dinner at Frazie’s; this time featuring Executive Chef Jason Stern from Boone’s at Bobby Jones (Buckhead). Expect elevated\, seasonal plates\, big flavor\, and a chef-driven menu you won’t find anywhere else. \nTHE MENUFirst Course: Beet Steak: shiitake powder\, frisée\, Meyer lemon gelSecond Course: Seared Scallop & Pork Belly: fava bean purée\, truffle beurre blancThird Course: Rabbit Roulade: pancetta\, mushroom duxelles\, spinach\, carrot purée\, gooseberry jusPasta Course: Braised Pork Agnolotti: porcini mushrooms\, parmesan foam\, pistachio\, pickled green garlicMain Course: Dry-Aged Duck: toasted farro\, parsnip purée\, confit fennel\, apricot & red wine jusDessert: Fig & Brown Sugar Bourbon Bread Pudding: vanilla gelato\, warm caramel \nABOUT CHEF JASON STERNNYC-born with 30+ years in the game\, Chef Stern has led kitchens across Atlanta: earning accolades like “Best Italian” (Jezebel) at Colletta and helping From the Earth Brewery be voted “Best Brewpub” nationally (USA Today). Now he’s at Boone’s\, bringing upscale New American cuisine to a laid-back setting overlooking Bobby Jones Golf Course. \n🎟️ Seats are limited; this dinner will fill up fast.Make Your Reservations Today!
URL:https://fraziesmeatandmarket.com/event/february-supper-club-featuring-executive-chef-jason-stern/
LOCATION:Frazie’s Meat & Market – Riverside\, GA\, 404.721.8521\, 30318\, Georgia
CATEGORIES:Supper Club
ORGANIZER;CN="Frazie's Meat & Market":MAILTO:info@fraziesmeatandmarket.com
END:VEVENT
BEGIN:VEVENT
DTSTART;VALUE=DATE:20260319
DTEND;VALUE=DATE:20260321
DTSTAMP:20260421T222835
CREATED:20260309T185122Z
LAST-MODIFIED:20260309T185122Z
UID:12012-1773878400-1774051199@fraziesmeatandmarket.com
SUMMARY:Chichería x Frazie’s Taco Takeover
DESCRIPTION:Chichería x Frazie’s Taco Takeover \nMarch 19–20\, 2026 | Chichería Mexican Kitchen \nFrazie’s is taking over Chichería for two days only. Chef Mark Frazie is bringing the smoke\, the flavor\, and two limited-time tacos you won’t see again once they’re gone. \nLimited-Time Taco Specials \n1) Smoked Pork Belly Burnt Ends Taco \nSmoked pork belly burnt ends\, chopped Frazie’s BBQ-braised collard greens\, pimento cheese crema\, and thin-sliced pickled jalapeño on a charred corn tortilla. \n2) Smoked Brisket Birria Taco \nSmoked brisket braised in a roasted tomato and jalapeño broth\, Oaxaca cheese\, diced white onion\, and fresh cilantro on a consommé-dipped fried corn tortilla. Served with brisket consommé on the side. \nCome early. These will sell out. Make Your Reservations Here
URL:https://fraziesmeatandmarket.com/event/chicheria-x-frazies-taco-takeover/
LOCATION:Chicheria\, 202 Chattahoochee Row NW suite c\, Atlanta\, 30318\, United States
ATTACH;FMTTYPE=image/png:https://fraziesmeatandmarket.com/wp-content/uploads/2026/03/Design-Direction-1.png
END:VEVENT
BEGIN:VEVENT
DTSTART;TZID=America/New_York:20260321T120000
DTEND;TZID=America/New_York:20260321T170000
DTSTAMP:20260421T222836
CREATED:20260309T184015Z
LAST-MODIFIED:20260309T184015Z
UID:12003-1774094400-1774112400@fraziesmeatandmarket.com
SUMMARY:Frazie’s 1st BBQ Party of 2026
DESCRIPTION:Frazie’s 1st BBQ Party of 2026 \nSaturday\, March 21\, 2026 \nCome hang with us at Frazie’s Meat & Market for a full-on BBQ Party with live music\, local vendors\, free samples\, and family-friendly fun all day. \nBBQ Plate Special ($25): \nSmoked corn beef\, fried potatoes\, and beer-braised cabbage. \nBring the crew\, grab a plate\, and enjoy the party vibes at Frazie’s.
URL:https://fraziesmeatandmarket.com/event/frazies-1st-bbq-party-of-2026/
LOCATION:Frazie’s Meat & Market – Riverside\, GA\, 404.721.8521\, 30318\, Georgia
ATTACH;FMTTYPE=image/png:https://fraziesmeatandmarket.com/wp-content/uploads/2026/03/Frazies-BBQ-Party.png
ORGANIZER;CN="Frazie's Meat & Market":MAILTO:info@fraziesmeatandmarket.com
END:VEVENT
BEGIN:VEVENT
DTSTART;VALUE=DATE:20260327
DTEND;VALUE=DATE:20260329
DTSTAMP:20260421T222836
CREATED:20260309T184525Z
LAST-MODIFIED:20260309T184525Z
UID:12006-1774569600-1774742399@fraziesmeatandmarket.com
SUMMARY:Crawfish for a Cause: Mental Awakening Fest 2026
DESCRIPTION:Crawfish for a Cause: Mental Awakening Fest \nMarch 27–28\, 2026 | Westside Motor Lounge | Atlanta\, GA \nWe’re heading to Mental Awakening Fest for a weekend of music\, community\, and purpose with Big Something headlining and an incredible lineup all weekend long. Huge shoutout to our friends at Yacht Water as the main sponsor. \nFrazie’s will be on site both days smoking meats and serving up our signature sandwiches all weekend. \nTickets will move fast\, grab yours before they sell out.
URL:https://fraziesmeatandmarket.com/event/crawfish-for-a-cause-mental-awakening-fest-2026/
LOCATION:Westside Motor Lounge\, 725 Echo St NW\, Atlanta\, 30318\, United States
CATEGORIES:Pop Up
ATTACH;FMTTYPE=image/png:https://fraziesmeatandmarket.com/wp-content/uploads/2026/03/Mental-Awakening-Fest.png
END:VEVENT
BEGIN:VEVENT
DTSTART;TZID=America/New_York:20260331T180000
DTEND;TZID=America/New_York:20260331T210000
DTSTAMP:20260421T222836
CREATED:20260309T183657Z
LAST-MODIFIED:20260325T161219Z
UID:12000-1774980000-1774990800@fraziesmeatandmarket.com
SUMMARY:Frazie’s March Supper Club featuring Chef Joey Vazquez (Chicheria Mexican Kitchen)
DESCRIPTION:Frazie’s March Supper Club featuring Chef Joey Vazquez (Chicheria Mexican Kitchen)\nDate: Monday\, March 31\nTime: 6:00 PM – 9:00 PM\nLocation: Frazie’s Meat & Market\nTickets: $200 per guest\nSeating: 16 seats only (very limited) \nJoin us for an intimate\, chef-led Supper Club dinner at Frazie’s Meat & Market\, featuring Chef Joey Vazquez\, Executive Chef of Chicheria Mexican Kitchen. Known for bringing authentic flavors to life with a modern Baja-style twist\, Chef Joey pairs bold creativity with a deep respect for fresh ingredients and scratch-made technique. \nChef Joey leads Chicheria’s 100% gluten-free kitchen\, constantly evolving the menu through experimentation\, research\, and seasonal specials designed to keep every visit vibrant and memorable. His background includes leadership roles at standout restaurants like Barcelona Wine Bar\, Flower Child\, Bulla Gastrobar\, and more\, with inspiration drawn from culinary travels and collaborations around the world. \nHere’s a look at the menu: (each course will be paired with hand-selected wine) \nWelcome Bite\nSea Scallop Crudo\nyuzu-chile oil\, lime\, serrano\, cucumber \nCourse I\nBaja Aguachile or Prawn Crudo Aguachile\nshrimp\, avocado\, chiltepin\, citrus broth\, blue corn tostada crumble \nCourse II\nGrilled Pulpo & Calabacita\ncharred octopus\, Mexican squash\, roasted garlic\, epazote\, chile oil \nCourse III\nWagyu Tartare\nblue corn crisp \nCourse IV\nChile Relleno\nroasted poblano\, queso fresco\, lump crab\, citrus butter\, roasted tomato \nCourse V\nPork Belly Adobada\nslow-roasted pork belly\, adobada glaze\, charred pineapple salsa \nCourse VI\nRoasted Pineapple Tres Leches\ncaramelized pineapple\, vanilla sponge\, tres leches cream\, topped with toasted meringue \nExpect a one-night-only dining experience built for serious food lovers: elevated courses\, thoughtful storytelling\, and the kind of energy that makes Supper Club at Frazie’s feel like the best seat in the city. \nTickets are $199.99 per person and seating is limited to 16 guests. Click Here For Reservations
URL:https://fraziesmeatandmarket.com/event/frazies-march-supper-club-featuring-chef-joey-vazquez-chicheria-mexican-kitchen/
LOCATION:Frazie’s Meat & Market – Riverside\, GA\, 404.721.8521\, 30318\, Georgia
CATEGORIES:Supper Club
ORGANIZER;CN="Frazie's Meat & Market":MAILTO:info@fraziesmeatandmarket.com
END:VEVENT
BEGIN:VEVENT
DTSTART;TZID=America/New_York:20260425T120000
DTEND;TZID=America/New_York:20260425T170000
DTSTAMP:20260421T222836
CREATED:20260420T142654Z
LAST-MODIFIED:20260420T142751Z
UID:12028-1777118400-1777136400@fraziesmeatandmarket.com
SUMMARY:Frazie's 420 BBQ Party
DESCRIPTION:Join us at Frazie’s Meat & Market for our April BBQ on Saturday\, April 25th from 12p-5p. \n\nWe’ll be serving a featured Smoked Turkey Plate with house bourbon BBQ\, summer succotash\, and German potato salad for $20.\n\nCome hang out with us for a great day of live music\, vendors\, and good food as we celebrate spring with the Frazie’s community. Music for the day will be by Iain Thomas of Bird Dog Jubilee and friends. \n\n\nWe’re also excited to feature a great lineup of vendors\, including Brown Girl Shrub Drink Mixers\, NineDot THC Drinks\, Kea Beverages\, StayCay\, and Powerful Pepper Co. \n\nBring your friends\, come hungry\, and enjoy a fun day filled with great food\, local flavor\, and good company. \nFor more info and updates\, follow our event page on Facebook.
URL:https://fraziesmeatandmarket.com/event/frazies-420-bbq-party/
LOCATION:Frazie’s Meat & Market – Riverside\, GA\, 404.721.8521\, 30318\, Georgia
CATEGORIES:Cookout
ATTACH;FMTTYPE=image/jpeg:https://fraziesmeatandmarket.com/wp-content/uploads/2026/04/669081955_929957026445947_8805861978613630994_n.jpg
ORGANIZER;CN="Frazie's Meat & Market":MAILTO:info@fraziesmeatandmarket.com
END:VEVENT
END:VCALENDAR