BEGIN:VCALENDAR
VERSION:2.0
PRODID:-//Frazie&#039;s Meat &amp; Market - ECPv6.15.20//NONSGML v1.0//EN
CALSCALE:GREGORIAN
METHOD:PUBLISH
X-WR-CALNAME:Frazie&#039;s Meat &amp; Market
X-ORIGINAL-URL:https://fraziesmeatandmarket.com
X-WR-CALDESC:Events for Frazie&#039;s Meat &amp; Market
REFRESH-INTERVAL;VALUE=DURATION:PT1H
X-Robots-Tag:noindex
X-PUBLISHED-TTL:PT1H
BEGIN:VTIMEZONE
TZID:America/New_York
BEGIN:DAYLIGHT
TZOFFSETFROM:-0500
TZOFFSETTO:-0400
TZNAME:EDT
DTSTART:20240310T070000
END:DAYLIGHT
BEGIN:STANDARD
TZOFFSETFROM:-0400
TZOFFSETTO:-0500
TZNAME:EST
DTSTART:20241103T060000
END:STANDARD
BEGIN:DAYLIGHT
TZOFFSETFROM:-0500
TZOFFSETTO:-0400
TZNAME:EDT
DTSTART:20250309T070000
END:DAYLIGHT
BEGIN:STANDARD
TZOFFSETFROM:-0400
TZOFFSETTO:-0500
TZNAME:EST
DTSTART:20251102T060000
END:STANDARD
BEGIN:DAYLIGHT
TZOFFSETFROM:-0500
TZOFFSETTO:-0400
TZNAME:EDT
DTSTART:20260308T070000
END:DAYLIGHT
BEGIN:STANDARD
TZOFFSETFROM:-0400
TZOFFSETTO:-0500
TZNAME:EST
DTSTART:20261101T060000
END:STANDARD
END:VTIMEZONE
BEGIN:VEVENT
DTSTART;TZID=America/New_York:20250124T180000
DTEND;TZID=America/New_York:20250124T193000
DTSTAMP:20260422T183920
CREATED:20250117T172320Z
LAST-MODIFIED:20250117T172320Z
UID:11746-1737741600-1737747000@fraziesmeatandmarket.com
SUMMARY:Frazie’s First-Ever Virtual Cooking Class
DESCRIPTION:📅 Date: January 24\, 2025 \n📍 Where: Online – Live-streamed from The Grateful Butcherman’s kitchen \n🛒 All Ingredients Included: All ingredients included in pricing. (more info soon) \nAre you ready to sharpen your cooking skills and cook alongside a pro? Join us for our first-ever Virtual Cooking Class\, hosted by The Grateful Butcherman\, Mark Frazie! \nWhat to Expect: \n✅ Interactive\, step-by-step instruction from The Grateful Butcherman \n✅ Cook from the comfort of your home – no fancy equipment needed! \n✅ Engage\, ask questions\, and have fun while making a delicious dish \nMenu:\n– Crab cake stuffed salmon with a lemon butter capper sauce\n– Mushroom truffle risotto\n– Garlic asparagus \n🎟️ Reserve Your Spot – $150 (Dinner For Two!) \n📞 Call 404.941.9171 \n📍 Visit us in-store at Frazie’s Meat & Market \nLet’s cook\, learn\, and enjoy great food—together! 🍽️✨
URL:https://fraziesmeatandmarket.com/event/frazies-first-ever-virtual-cooking-class/
LOCATION:Frazie’s Meat & Market – Riverside\, GA\, 404.721.8521\, 30318\, Georgia
CATEGORIES:Cooking Class
ATTACH;FMTTYPE=image/jpeg:https://fraziesmeatandmarket.com/wp-content/uploads/2025/01/couple-is-preparing-the-proper-meal-2024-11-05-07-56-21-utc-scaled.jpg
ORGANIZER;CN="Frazie's Meat & Market":MAILTO:info@fraziesmeatandmarket.com
END:VEVENT
BEGIN:VEVENT
DTSTART;VALUE=DATE:20250117
DTEND;VALUE=DATE:20250121
DTSTAMP:20260422T183920
CREATED:20250117T170435Z
LAST-MODIFIED:20250117T170435Z
UID:11743-1737072000-1737417599@fraziesmeatandmarket.com
SUMMARY:Smoked Wings for the National Championship – Pre-Order Now!
DESCRIPTION:Get ready for the biggest football game of the year with Frazie’s famous smoked wings! Whether you’re hosting a watch party or just looking for the perfect game-day snack\, our house-smoked\, tender\, and flavorful wings are a must-have for the National Championship game on January 20\, 2025. \n📅 Pre-Order Deadline: January 18\, 2025 \n📍 Pickup Available: January 19-20\, 2025 \n🎉 Game Day Kickoff: 7:30 PM (Don’t be caught without wings!) \n🔥 Why Our Smoked Wings? \n✅ Perfectly seasoned & smoked in-house \n✅ Juicy\, tender\, and packed with flavor \n✅ Ready-to-eat or heat-and-serve options available \n✅ Limited quantities – Pre-order now before we sell out! \n🏈 How to Order: \n📞 Call us at 404.941.9171 \n📍 Stop by Frazie’s Meat & Market \nDon’t miss out—score big with Frazie’s legendary smoked wings!
URL:https://fraziesmeatandmarket.com/event/smoked-wings-for-the-national-championship-pre-order-now/
LOCATION:Frazie’s Meat & Market – Riverside\, GA\, 404.721.8521\, 30318\, Georgia
CATEGORIES:Football
ATTACH;FMTTYPE=image/png:https://fraziesmeatandmarket.com/wp-content/uploads/2025/01/Screenshot-2025-01-17-at-12.00.41 PM.png
ORGANIZER;CN="Frazie's Meat & Market":MAILTO:info@fraziesmeatandmarket.com
END:VEVENT
BEGIN:VEVENT
DTSTART;TZID=America/New_York:20250115T170000
DTEND;TZID=America/New_York:20250115T190000
DTSTAMP:20260422T183920
CREATED:20250109T121625Z
LAST-MODIFIED:20250109T134528Z
UID:11718-1736960400-1736967600@fraziesmeatandmarket.com
SUMMARY:Wine Down Wednesday [ Scofflaw THC Seltzers ]
DESCRIPTION:Looking for the perfect midweek pick-me-up? Join us at Frazie’s Meat & Market for a unique and relaxing Wine Down Wednesday on January 15th\, 2025\, from 5:00 PM to 7:00 PM. This special event will tantalize your taste buds and elevate your evening as we partner with Scofflaw Brewing Co. to bring you an unforgettable experience featuring their refreshing THC Seltzers and a delectable spread of homemade munchies. \nWhat to Expect: \n• Scofflaw Brewing THC Seltzers: Sip on these innovative and buzz-worthy beverages that combine bold flavors with a calming twist. Perfect for unwinding midweek! \n• Delicious Homemade Munchies: Enjoy handcrafted bites made fresh at Frazie’s\, perfectly paired with your seltzer of choice. \n• Community Vibes: Meet fellow food and beverage enthusiasts in a cozy and inviting atmosphere. \nWhy You Should Attend: \nFrazie’s Meat & Market is more than just a butcher shop; it’s a community hub where foodies gather to celebrate flavor\, creativity\, and local partnerships. This Wine Down Wednesday is your chance to explore new tastes\, connect with your neighbors\, and enjoy a laid-back evening like no other. \nDon’t miss this exciting collaboration with Scofflaw Brewing Co.! Whether you’re a fan of bold beverages or curious to try something new\, this event promises a heady evening of great drinks\, amazing snacks\, and good company.
URL:https://fraziesmeatandmarket.com/event/wine-down-wednesday-scofflaw/
LOCATION:Frazie’s Meat & Market – Riverside\, GA\, 404.721.8521\, 30318\, Georgia
CATEGORIES:Wine Down Wednesday
ATTACH;FMTTYPE=image/jpeg:https://fraziesmeatandmarket.com/wp-content/uploads/2025/01/471950671_573618068746513_807968634604186818_n-2.jpg
ORGANIZER;CN="Frazie's Meat & Market":MAILTO:info@fraziesmeatandmarket.com
END:VEVENT
END:VCALENDAR