BEGIN:VCALENDAR
VERSION:2.0
PRODID:-//Frazie&#039;s Meat &amp; Market - ECPv6.15.20//NONSGML v1.0//EN
CALSCALE:GREGORIAN
METHOD:PUBLISH
X-WR-CALNAME:Frazie&#039;s Meat &amp; Market
X-ORIGINAL-URL:https://fraziesmeatandmarket.com
X-WR-CALDESC:Events for Frazie&#039;s Meat &amp; Market
REFRESH-INTERVAL;VALUE=DURATION:PT1H
X-Robots-Tag:noindex
X-PUBLISHED-TTL:PT1H
BEGIN:VTIMEZONE
TZID:America/New_York
BEGIN:DAYLIGHT
TZOFFSETFROM:-0500
TZOFFSETTO:-0400
TZNAME:EDT
DTSTART:20240310T070000
END:DAYLIGHT
BEGIN:STANDARD
TZOFFSETFROM:-0400
TZOFFSETTO:-0500
TZNAME:EST
DTSTART:20241103T060000
END:STANDARD
BEGIN:DAYLIGHT
TZOFFSETFROM:-0500
TZOFFSETTO:-0400
TZNAME:EDT
DTSTART:20250309T070000
END:DAYLIGHT
BEGIN:STANDARD
TZOFFSETFROM:-0400
TZOFFSETTO:-0500
TZNAME:EST
DTSTART:20251102T060000
END:STANDARD
BEGIN:DAYLIGHT
TZOFFSETFROM:-0500
TZOFFSETTO:-0400
TZNAME:EDT
DTSTART:20260308T070000
END:DAYLIGHT
BEGIN:STANDARD
TZOFFSETFROM:-0400
TZOFFSETTO:-0500
TZNAME:EST
DTSTART:20261101T060000
END:STANDARD
END:VTIMEZONE
BEGIN:VEVENT
DTSTART;TZID=America/New_York:20250315T120000
DTEND;TZID=America/New_York:20250315T170000
DTSTAMP:20260421T113057
CREATED:20250305T061238Z
LAST-MODIFIED:20250305T061407Z
UID:11778-1742040000-1742058000@fraziesmeatandmarket.com
SUMMARY:Atlanta's #1 St. Patrick's Day Cookout
DESCRIPTION:St. Patrick’s Day Cookout at Frazie’s Meat & Market!\nGet ready to celebrate St. Patrick’s Day the right way—good food\, great drinks\, and live music!\nJoin us at Frazie’s Meat & Market on March 15th from 12 PM – 5 PM for an unforgettable St. Patrick’s celebration.\n• Live Music by Marsoupial\n• Beer Samples• THC Drinks by Scofflaw• Corned Beef & Cabbage Plates\n\nLocation:2030 Main St. NW\, Atlanta\, GA 30318\nCome hang with us\, grab a drink\, enjoy some amazing food\, and jam out to live music! Whether you’re Irish or just Irish for the day\, this is the place to be. Don’t miss out—let’s party at the shop from 12 PM – 5 PM!
URL:https://fraziesmeatandmarket.com/event/atlantas-1-st-patricks-day-cookout/
LOCATION:Frazie’s Meat & Market – Riverside\, GA\, 404.721.8521\, 30318\, Georgia
CATEGORIES:Cookout,St. Patrick's Day
ATTACH;FMTTYPE=image/jpeg:https://fraziesmeatandmarket.com/wp-content/uploads/2025/03/st-patricks-day-cookout.jpg
ORGANIZER;CN="Frazie's Meat & Market":MAILTO:info@fraziesmeatandmarket.com
END:VEVENT
END:VCALENDAR