BEGIN:VCALENDAR
VERSION:2.0
PRODID:-//Frazie&#039;s Meat &amp; Market - ECPv6.15.20//NONSGML v1.0//EN
CALSCALE:GREGORIAN
METHOD:PUBLISH
X-ORIGINAL-URL:https://fraziesmeatandmarket.com
X-WR-CALDESC:Events for Frazie&#039;s Meat &amp; Market
REFRESH-INTERVAL;VALUE=DURATION:PT1H
X-Robots-Tag:noindex
X-PUBLISHED-TTL:PT1H
BEGIN:VTIMEZONE
TZID:America/New_York
BEGIN:DAYLIGHT
TZOFFSETFROM:-0500
TZOFFSETTO:-0400
TZNAME:EDT
DTSTART:20250309T070000
END:DAYLIGHT
BEGIN:STANDARD
TZOFFSETFROM:-0400
TZOFFSETTO:-0500
TZNAME:EST
DTSTART:20251102T060000
END:STANDARD
BEGIN:DAYLIGHT
TZOFFSETFROM:-0500
TZOFFSETTO:-0400
TZNAME:EDT
DTSTART:20260308T070000
END:DAYLIGHT
BEGIN:STANDARD
TZOFFSETFROM:-0400
TZOFFSETTO:-0500
TZNAME:EST
DTSTART:20261101T060000
END:STANDARD
BEGIN:DAYLIGHT
TZOFFSETFROM:-0500
TZOFFSETTO:-0400
TZNAME:EDT
DTSTART:20270314T070000
END:DAYLIGHT
BEGIN:STANDARD
TZOFFSETFROM:-0400
TZOFFSETTO:-0500
TZNAME:EST
DTSTART:20271107T060000
END:STANDARD
END:VTIMEZONE
BEGIN:VEVENT
DTSTART;VALUE=DATE:20260319
DTEND;VALUE=DATE:20260321
DTSTAMP:20260421T120232
CREATED:20260309T185122Z
LAST-MODIFIED:20260309T185122Z
UID:12012-1773878400-1774051199@fraziesmeatandmarket.com
SUMMARY:Chichería x Frazie’s Taco Takeover
DESCRIPTION:Chichería x Frazie’s Taco Takeover \nMarch 19–20\, 2026 | Chichería Mexican Kitchen \nFrazie’s is taking over Chichería for two days only. Chef Mark Frazie is bringing the smoke\, the flavor\, and two limited-time tacos you won’t see again once they’re gone. \nLimited-Time Taco Specials \n1) Smoked Pork Belly Burnt Ends Taco \nSmoked pork belly burnt ends\, chopped Frazie’s BBQ-braised collard greens\, pimento cheese crema\, and thin-sliced pickled jalapeño on a charred corn tortilla. \n2) Smoked Brisket Birria Taco \nSmoked brisket braised in a roasted tomato and jalapeño broth\, Oaxaca cheese\, diced white onion\, and fresh cilantro on a consommé-dipped fried corn tortilla. Served with brisket consommé on the side. \nCome early. These will sell out. Make Your Reservations Here
URL:https://fraziesmeatandmarket.com/event/chicheria-x-frazies-taco-takeover/
LOCATION:Chicheria\, 202 Chattahoochee Row NW suite c\, Atlanta\, 30318\, United States
ATTACH;FMTTYPE=image/png:https://fraziesmeatandmarket.com/wp-content/uploads/2026/03/Design-Direction-1.png
END:VEVENT
END:VCALENDAR