BEGIN:VCALENDAR
VERSION:2.0
PRODID:-//Frazie&#039;s Meat &amp; Market - ECPv6.15.20//NONSGML v1.0//EN
CALSCALE:GREGORIAN
METHOD:PUBLISH
X-ORIGINAL-URL:https://fraziesmeatandmarket.com
X-WR-CALDESC:Events for Frazie&#039;s Meat &amp; Market
REFRESH-INTERVAL;VALUE=DURATION:PT1H
X-Robots-Tag:noindex
X-PUBLISHED-TTL:PT1H
BEGIN:VTIMEZONE
TZID:America/New_York
BEGIN:DAYLIGHT
TZOFFSETFROM:-0500
TZOFFSETTO:-0400
TZNAME:EDT
DTSTART:20240310T070000
END:DAYLIGHT
BEGIN:STANDARD
TZOFFSETFROM:-0400
TZOFFSETTO:-0500
TZNAME:EST
DTSTART:20241103T060000
END:STANDARD
BEGIN:DAYLIGHT
TZOFFSETFROM:-0500
TZOFFSETTO:-0400
TZNAME:EDT
DTSTART:20250309T070000
END:DAYLIGHT
BEGIN:STANDARD
TZOFFSETFROM:-0400
TZOFFSETTO:-0500
TZNAME:EST
DTSTART:20251102T060000
END:STANDARD
BEGIN:DAYLIGHT
TZOFFSETFROM:-0500
TZOFFSETTO:-0400
TZNAME:EDT
DTSTART:20260308T070000
END:DAYLIGHT
BEGIN:STANDARD
TZOFFSETFROM:-0400
TZOFFSETTO:-0500
TZNAME:EST
DTSTART:20261101T060000
END:STANDARD
END:VTIMEZONE
BEGIN:VEVENT
DTSTART;TZID=America/New_York:20251025T120000
DTEND;TZID=America/New_York:20251025T170000
DTSTAMP:20260421T202318
CREATED:20251009T135425Z
LAST-MODIFIED:20251009T135425Z
UID:11938-1761393600-1761411600@fraziesmeatandmarket.com
SUMMARY:Frazie's Halloween BBQ Bash
DESCRIPTION:Frazie’s Halloween BBQ Party \nOctober 25th | 12 PM – 5 PM\nFrazie’s Meat & Market – 2030 Main St\, Atlanta\, GA \n\nIt’s that spooky (and smoky) time of year again! Join us for Frazie’s Halloween BBQ Party – a family-friendly afternoon filled with live music\, a DJ\, amazing food\, cold drinks\, and Halloween fun.\n\n What to Expect:• Mouthwatering BBQ fresh off the grill• Ice-cold drinks & Vendor Samples• Live music & DJ vibes all day long• Family fun and games for all ages• Costume Contest | Dress your best costume!\n\nBring your friends\, family\, and your best Halloween spirit -costumes are encouraged but not required. Whether you’re coming for the BBQ\, the beats\, or the boos\, this is one event you won’t want to miss.\n\nFree to attend | All ages welcome
URL:https://fraziesmeatandmarket.com/event/frazies-halloween-bbq-bash/
LOCATION:Frazie’s Meat & Market – Riverside\, GA\, 404.721.8521\, 30318\, Georgia
ORGANIZER;CN="Frazie's Meat & Market":MAILTO:info@fraziesmeatandmarket.com
END:VEVENT
END:VCALENDAR