BEGIN:VCALENDAR
VERSION:2.0
PRODID:-//Frazie&#039;s Meat &amp; Market - ECPv6.15.20//NONSGML v1.0//EN
CALSCALE:GREGORIAN
METHOD:PUBLISH
X-ORIGINAL-URL:https://fraziesmeatandmarket.com
X-WR-CALDESC:Events for Frazie&#039;s Meat &amp; Market
REFRESH-INTERVAL;VALUE=DURATION:PT1H
X-Robots-Tag:noindex
X-PUBLISHED-TTL:PT1H
BEGIN:VTIMEZONE
TZID:America/New_York
BEGIN:DAYLIGHT
TZOFFSETFROM:-0500
TZOFFSETTO:-0400
TZNAME:EDT
DTSTART:20240310T070000
END:DAYLIGHT
BEGIN:STANDARD
TZOFFSETFROM:-0400
TZOFFSETTO:-0500
TZNAME:EST
DTSTART:20241103T060000
END:STANDARD
BEGIN:DAYLIGHT
TZOFFSETFROM:-0500
TZOFFSETTO:-0400
TZNAME:EDT
DTSTART:20250309T070000
END:DAYLIGHT
BEGIN:STANDARD
TZOFFSETFROM:-0400
TZOFFSETTO:-0500
TZNAME:EST
DTSTART:20251102T060000
END:STANDARD
BEGIN:DAYLIGHT
TZOFFSETFROM:-0500
TZOFFSETTO:-0400
TZNAME:EDT
DTSTART:20260308T070000
END:DAYLIGHT
BEGIN:STANDARD
TZOFFSETFROM:-0400
TZOFFSETTO:-0500
TZNAME:EST
DTSTART:20261101T060000
END:STANDARD
END:VTIMEZONE
BEGIN:VEVENT
DTSTART;TZID=America/New_York:20250927T100000
DTEND;TZID=America/New_York:20250927T200000
DTSTAMP:20260421T222520
CREATED:20250911T173758Z
LAST-MODIFIED:20250911T173943Z
UID:11933-1758967200-1759003200@fraziesmeatandmarket.com
SUMMARY:Tucker Brewing BBQ
DESCRIPTION:
URL:https://fraziesmeatandmarket.com/event/tucker-brewing-bbq-2/
LOCATION:Tucker Brewing\, 2003 S Bibb Dr.\, Atlanta\, GA\, 30318\, United States
END:VEVENT
END:VCALENDAR